BEGIN:VCALENDAR
VERSION:2.0
PRODID:-//Одеський літературний музей - ECPv5.4.0.2//NONSGML v1.0//EN
CALSCALE:GREGORIAN
METHOD:PUBLISH
X-WR-CALNAME:Одеський літературний музей
X-ORIGINAL-URL:https://museum-literature.odessa.ua/ru/
X-WR-CALDESC:События для Одеський літературний музей
BEGIN:VTIMEZONE
TZID:Europe/Kiev
BEGIN:DAYLIGHT
TZOFFSETFROM:+0200
TZOFFSETTO:+0300
TZNAME:EEST
DTSTART:20200329T010000
END:DAYLIGHT
BEGIN:STANDARD
TZOFFSETFROM:+0300
TZOFFSETTO:+0200
TZNAME:EET
DTSTART:20201025T010000
END:STANDARD
END:VTIMEZONE
BEGIN:VEVENT
DTSTART;TZID=Europe/Kiev:20200611T170000
DTEND;TZID=Europe/Kiev:20200611T180000
DTSTAMP:20260421T141536
CREATED:20200610T133645Z
LAST-MODIFIED:20200610T133645Z
UID:22969-1591894800-1591898400@museum-literature.odessa.ua
SUMMARY:Лекторий ОЛМ
DESCRIPTION:Одесский литературный открывает проект «ЛЕКТОРИЙ ОЛМ» и приглашаем всех на.. несветские четверги в Золотом Зале музея. \nКомпанию вам составят наши лучшие сотрудники — профессиональные литературоведы\, которые вышли из темных лабиринтов литературных сюжетов\, поднялись из пыльных архивов и фондохранилищ ради одного – беспощадно делиться своими знаниями! \nДавно хотите стать настоящим экспертом в литературе\, но чувствуете себя немного профаном в пестром мире слов и имен — это не беда. У нас работают профессиональные literary-акселераторы\, которые проведут вас в этом эфемерном мире надежными тропами проверенных биографических фактов и избранных цитат. \nЛЕКТОРИЙ ОЛМ — это культурно-образовательная инициатива\, наша цель — показать различным возрастным группам одесситов и гостям Пальмиры что\, «литературно» и «скучно» не всегда синонимы. \nСтарт проекта состоится ровно через неделю\, в четверг\, 11 июня в 17:00. Ждем всех друзей\, врагов и единомышленников на несветские четверги в Золотом Зале\, приходите послушать и поговорить! \n  \nПРОГРАММА  НА ИЮНЬ \n\n11/06  «Мне дело – измена\, мне имя – Марина» \n                                                          /Марина Цветаева \n              лектор: ведущий научный сотрудник Екатерина Ергеева \n  \n18/06  «Никогда не гнала меня нужда\, только безмерная жажда \n               жизни…»                        /Александр Куприн \n                лектор: ведущий научный сотрудник Елена Каракина \n  \n25/06  «Білим і чорним хотів би я бути»\n                                               / Михайло Жук — художник та письменник\nлектор: провідний науковий співробітник Олена Яворська \n\n  \nОдесский литературный\, с любовью
URL:https://museum-literature.odessa.ua/ru/events/lektoryj-olm-2/
ATTACH;FMTTYPE=image/jpeg:https://museum-literature.odessa.ua/wp-content/uploads/2020/06/102879163_3836724739733493_6465375924647886848_n.jpg
END:VEVENT
END:VCALENDAR