BEGIN:VCALENDAR
VERSION:2.0
PRODID:-//Одеський літературний музей - ECPv5.4.0.2//NONSGML v1.0//EN
CALSCALE:GREGORIAN
METHOD:PUBLISH
X-WR-CALNAME:Одеський літературний музей
X-ORIGINAL-URL:https://museum-literature.odessa.ua/ru/
X-WR-CALDESC:События для Одеський літературний музей
BEGIN:VTIMEZONE
TZID:Europe/Kiev
BEGIN:DAYLIGHT
TZOFFSETFROM:+0200
TZOFFSETTO:+0300
TZNAME:EEST
DTSTART:20200329T010000
END:DAYLIGHT
BEGIN:STANDARD
TZOFFSETFROM:+0300
TZOFFSETTO:+0200
TZNAME:EET
DTSTART:20201025T010000
END:STANDARD
END:VTIMEZONE
BEGIN:VEVENT
DTSTART;TZID=Europe/Kiev:20200630T100000
DTEND;TZID=Europe/Kiev:20200825T170000
DTSTAMP:20260422T121351
CREATED:20200624T142902Z
LAST-MODIFIED:20200819T114009Z
UID:23401-1593511200-1598374800@museum-literature.odessa.ua
SUMMARY:«Лица» / выставка современного украинского портрета
DESCRIPTION:Ко Дню Конституции Украины \nВ Галерее Одесского литературного музея с 30 июня открыта выставка современной украинской живописи «Лица». Это коллективная экспозиция\, в которой художники предлагают зрителям проследить изменения в изображении человека от академической портретной школы к постмодернизму через символизм. \nНа выставке представлены взгляды художников разных школ и поколений на портрет: \n\nЛеонид Багрий – мастер абстрактной живописи\nИнна Хасилева и Holy Kateryna – яркое воплощение травестийной стихии постмодерна\nЛеся Медведь – тонкий декоратор и символист\nНастя Белоус известна своими муралами на одесских зданиях\, искусствовед и сторонница реализма в искусстве\nВалик Лапшин – создатель образов красоты неприкаянной юности\, в которых традиционная фигуративная живопись смешивается с абстрактным и иррациональным\nМарина Яндоленко увлекается Матиссом\, много экспериментирует\, интересуется европейскими и украинскими традициями живописи XX-XXI века\nЕкатерина Билетина с украинскими портретами в традиционном народном одежде\nВадим Суворов – продолжатель традиций соцреалистической манеры изображения\, тонкий колорист\n\n– всех этих мастеров объединяет интерес к портретному изображению человека. \nВернисаж\, приуроченный ко Дню Конституции Украины\, поднимает актуальные и крайне важные вопросы. \nУкраинцы… Кто мы? Откуда? И куда идём в поисках идентичности и самоопределения?  \nВизуальный ряд избранных современных портретов иллюстрирует эти размышления. \n  \nНапоминаем — посетители музея обязуются неукоснительно соблюдать все санитарно-эпидемиологические правила: масочный режим\, социальную дистанцию\, дезинфекцию рук.
URL:https://museum-literature.odessa.ua/ru/events/lytsa-vystavka-sovremennogo-ukraynskogo-portreta/
LOCATION:Одесский литературный музей\, ул. Ланжероновская\, 2\, г. Одесса\, Украина
ATTACH;FMTTYPE=image/jpeg:https://museum-literature.odessa.ua/wp-content/uploads/2020/06/IMG_20200618_105125-3.jpg
END:VEVENT
END:VCALENDAR