BEGIN:VCALENDAR
VERSION:2.0
PRODID:-//Одеський літературний музей - ECPv5.4.0.2//NONSGML v1.0//EN
CALSCALE:GREGORIAN
METHOD:PUBLISH
X-WR-CALNAME:Одеський літературний музей
X-ORIGINAL-URL:https://museum-literature.odessa.ua/ru/
X-WR-CALDESC:События для Одеський літературний музей
BEGIN:VTIMEZONE
TZID:UTC
BEGIN:STANDARD
TZOFFSETFROM:+0000
TZOFFSETTO:+0000
TZNAME:UTC
DTSTART:20190101T000000
END:STANDARD
END:VTIMEZONE
BEGIN:VEVENT
DTSTART;VALUE=DATE:20191004
DTEND;VALUE=DATE:20191012
DTSTAMP:20260421T203429
CREATED:20191009T145433Z
LAST-MODIFIED:20191009T153858Z
UID:19677-1570147200-1570838399@museum-literature.odessa.ua
SUMMARY:Международной литературно-художественный проект «Каллиграфия»
DESCRIPTION:с 4.10 по 11.10. \nЛитературный музей\, Баварский Дом и Гёте-институт представляют международный интерактивный Литературный проект «Каллиграфия рукописной книги» под руководством Корнелии Брауер. Группа одесских художников-каллиграфов проиллюстрирует и издаст в рукописном варианте старинную немецкую сказку «Die Regentrude» (Королева дождей). \nКорнелия Брауэр художник\, график\, керамист и каллиграф из Берлина. В течение двадцати одного года госпожа Брауэр является культурным руководителем юношеского культурного центра «Gerad Philipe». Персональные выставки Корнелии Брауэр проходили в Германии (Берлин\, Лейпциг)\, Италии (Тускания\, Градоли)\, в центре Помпиду в Париже и в музее современного искусства в Нью-Йорке. \nОдесский литературный музей\, Баварский Дом и Гёте-институт приглашают всех интересующихся искусством каллиграфии стать сопричастными к тайне создания рукописной книги. \nПроект действует с 4 по 11 октября.
URL:https://museum-literature.odessa.ua/ru/events/mezhdunarodnoj-lyteraturno-hudozhestvennyj-proekt-kallygrafyya/
CATEGORIES:Музей
ATTACH;FMTTYPE=image/jpeg:https://museum-literature.odessa.ua/wp-content/uploads/2019/10/mizhnarodnij-literaturno-hudozhnij-proekt-kaligrafiya.jpg
END:VEVENT
END:VCALENDAR