BEGIN:VCALENDAR
VERSION:2.0
PRODID:-//Одеський літературний музей - ECPv5.4.0.2//NONSGML v1.0//EN
CALSCALE:GREGORIAN
METHOD:PUBLISH
X-WR-CALNAME:Одеський літературний музей
X-ORIGINAL-URL:https://museum-literature.odessa.ua/ru/
X-WR-CALDESC:События для Одеський літературний музей
BEGIN:VTIMEZONE
TZID:UTC
BEGIN:STANDARD
TZOFFSETFROM:+0000
TZOFFSETTO:+0000
TZNAME:UTC
DTSTART:20190101T000000
END:STANDARD
END:VTIMEZONE
BEGIN:VEVENT
DTSTART;VALUE=DATE:20190710
DTEND;VALUE=DATE:20190725
DTSTAMP:20260421T202811
CREATED:20190709T190036Z
LAST-MODIFIED:20190711T203310Z
UID:18199-1562716800-1564012799@museum-literature.odessa.ua
SUMMARY:«Музыка моря» выставка Анны Ли
DESCRIPTION:10 июля в 15:00 в Одесском литературном музее открывается персональная выставка «Музыка моря» молодой художницы Анны Ли. \nТемой экспозиции является столь актуальная для нас морская стихия. «В процессе создания своих картин\, я всегда стремилась исследовать диалектику воды как вещества\, играющего важнейшую роль в возникновении и поддержании жизни на Земле. В глобальном кругообороте материи и энергии\, все объекты изменяются\, наполняют и заменяют друг друга. Они создают связь всего существующего в бесконечном\nпространстве\, наполненную\, на мой взгляд\, духовным смыслом»\, – раскрывает концепцию выставки сам автор. \nАнна Ли (Литвинова) родилась и живет в Одессе. Окончила художественно-графический факультет УГПУ (г. Умань) со степенью магистра. С 2018 года принята в «Профессиональный союз художников»\, объединяющий авторов со всего СНГ. Именно Литературный музей впервые представил творчество Анны на выставке «Радость вдохновения» в 2012 году. Также картины художницы выставлялись в Еврейском культурном центре «Beit Grand» (Одесса\, 2015) и в ГИАЗ «Стара Умань» (Умань\, 2018). Анна создает свои работы преодолевая серьезные трудности со здоровьем. \nВыставка действует до 24 июля. \n\n\n\n\n\n\n\n\n\n\n\n\n\n\n\n\n	Начало – в 15.00.
URL:https://museum-literature.odessa.ua/ru/events/muzyka-morya-vystavka-anny-ly/
ATTACH;FMTTYPE=image/jpeg:https://museum-literature.odessa.ua/wp-content/uploads/2019/07/muzyka-morya-vystavka-anny-li-ru.jpg
END:VEVENT
END:VCALENDAR