BEGIN:VCALENDAR
VERSION:2.0
PRODID:-//Одеський літературний музей - ECPv5.4.0.2//NONSGML v1.0//EN
CALSCALE:GREGORIAN
METHOD:PUBLISH
X-WR-CALNAME:Одеський літературний музей
X-ORIGINAL-URL:https://museum-literature.odessa.ua/ru/
X-WR-CALDESC:События для Одеський літературний музей
BEGIN:VTIMEZONE
TZID:UTC
BEGIN:STANDARD
TZOFFSETFROM:+0000
TZOFFSETTO:+0000
TZNAME:UTC
DTSTART:20190101T000000
END:STANDARD
END:VTIMEZONE
BEGIN:VEVENT
DTSTART;VALUE=DATE:20190705
DTEND;VALUE=DATE:20190727
DTSTAMP:20260421T215445
CREATED:20190710T075502Z
LAST-MODIFIED:20190711T203225Z
UID:18203-1562284800-1564185599@museum-literature.odessa.ua
SUMMARY:Персональная выставка живописи Олега Топора  «МОРЕ ВНУТРИ»
DESCRIPTION:5 июля в 16:00 в зале галерее Одесского литературного музея состоится открытие выставки живописи Олега топора «Море внутри» \nОлег Топор родился в городе Одесса в 1977 году. \nОбразование: \n\nХудожественная школа им. Костанди 1987-1992\nОдесскоое государственное художественное училище им.М.Б.Грекова. Специальность живопись 1992-1997\nОдесская Государственная Академия Строительства и Архитектуры.\nСпециальность архитектура и градостроительство 1997-2003\n\n\n«Сначала стал художником\, затем получил второе архитектурное образование.\nВ настоящее время работаю архитектором\, дизайнером интерьеров\, художником.\nТакже работал графическим дизайнером\, занимался монументальной живописью.\nВ качестве волонтера обучал детей рисованию и живописи.» \n«Так или иначе\, моя работа всегда связана с искусством. Живопись — это способ\nмедитации\, это мое призвание\, мое вдохновение.»\nОлег Топор \n\nОлег Топор участник и победитель многих художественных и архитектурных конкурсов. Картины находятся в частных коллекциях Украины\, Германии\, Италии и США\, а также украшают интерьеры ресторанов\, кафе и бизнес-центров. Художник живёт и работает в Одессе. \n\n\n\n\n\n\n\n\n\n\n\n\n\n\n\n\n	Выставка действует до 26.07.19
URL:https://museum-literature.odessa.ua/ru/events/personalnaya-vystavka-zhyvopysy-olega-topora-more-vnutry/
ATTACH;FMTTYPE=image/jpeg:https://museum-literature.odessa.ua/wp-content/uploads/2019/07/vystavka-olega-topora-more-vseredyni-ru.jpg
END:VEVENT
END:VCALENDAR