BEGIN:VCALENDAR
VERSION:2.0
PRODID:-//Одеський літературний музей - ECPv5.4.0.2//NONSGML v1.0//EN
CALSCALE:GREGORIAN
METHOD:PUBLISH
X-WR-CALNAME:Одеський літературний музей
X-ORIGINAL-URL:https://museum-literature.odessa.ua/ru/
X-WR-CALDESC:События для Одеський літературний музей
BEGIN:VTIMEZONE
TZID:UTC
BEGIN:STANDARD
TZOFFSETFROM:+0000
TZOFFSETTO:+0000
TZNAME:UTC
DTSTART:20190101T000000
END:STANDARD
END:VTIMEZONE
BEGIN:VEVENT
DTSTART;VALUE=DATE:20190713
DTEND;VALUE=DATE:20190714
DTSTAMP:20260421T200933
CREATED:20190711T201535Z
LAST-MODIFIED:20190712T060056Z
UID:18263-1562976000-1563062399@museum-literature.odessa.ua
SUMMARY:«Поговорим о странностях любви» с Еленой Каракиной
DESCRIPTION:13 июля в 16:00 в галерее Одесского литературного музея состоится заключительная встреча-беседа проекта «Поговорим о странностях любви» с Еленой Каракиной \n«Они женятся\, чтобы не быть одинокими…». Исаак Бабель\, который не мог быть не женат. \nФигура «короля одесской литературной школы» по- прежнему продолжает вызывать восторг одних и.. пламенную ярость других. \nИсаак Бабель при жизни был человеком скрытным\, оттого загадочным. Загадочность эта притягивала многих\, но способна была оттолкнуть\, вызвать раздражение и ненависть непонятливых. \nГибель писателя в сталинских застенках\, десятилетия умолчания лишь сгустили эмоциональную атмосферу\, в которой читается его проза\, узнаются подробности биографии Исаака Эммануиловича. \nБесспорно одно — женщины были к Бабелю благосклонны\, он платил им тем же. Хотя никто не может вообразить автора «Конармии» и «Одесских рассказов» смертельно влюблённым — об этом нет ни в прозе\, ни в автобиографии\, ни в мемуарах — но трудно себе представить Бабеля не женатым. Три женщины делили с ним жизнь. Последняя из жён писала и говорила о муже до конца своих дней. \n\n\n\n\n\n\n\n\n\n\n\n\n\n\n\n\n	БИЛЕТЫ В КАССЕ МУЗЕЯ
URL:https://museum-literature.odessa.ua/ru/events/pogovorym-o-strannostyah-lyubvy-s-elenoj-karakynoj/
ATTACH;FMTTYPE=image/jpeg:https://museum-literature.odessa.ua/wp-content/uploads/2019/07/o-strannostyah-lyubvy-2.jpg
END:VEVENT
END:VCALENDAR