BEGIN:VCALENDAR
VERSION:2.0
PRODID:-//Одеський літературний музей - ECPv5.4.0.2//NONSGML v1.0//EN
CALSCALE:GREGORIAN
METHOD:PUBLISH
X-WR-CALNAME:Одеський літературний музей
X-ORIGINAL-URL:https://museum-literature.odessa.ua/ru/
X-WR-CALDESC:События для Одеський літературний музей
BEGIN:VTIMEZONE
TZID:UTC
BEGIN:STANDARD
TZOFFSETFROM:+0000
TZOFFSETTO:+0000
TZNAME:UTC
DTSTART:20190101T000000
END:STANDARD
END:VTIMEZONE
BEGIN:VEVENT
DTSTART;VALUE=DATE:20190711
DTEND;VALUE=DATE:20190712
DTSTAMP:20260421T200445
CREATED:20190710T115258Z
LAST-MODIFIED:20190711T203345Z
UID:18212-1562803200-1562889599@museum-literature.odessa.ua
SUMMARY:Премия Бабеля
DESCRIPTION:Церемония вручения Премии Бабеля 2019 (третий сезон) традиционно приурочена ко дню рождения Исаака Бабеля и пройдет 11 июля\, в 17:00 в Золотом зале Одесского литературного музея. \nОдесская международная литературная Премия им. Исаака Бабеля присуждается за лучший рассказ (новеллу) на русском языке. В этом году свои рассказы на конкурс прислали 237 номинантов. Лонг-лист украсили своими именами и рассказами 81 автор. \nСписок финалистов (Шорт-лист) Премии Бабеля 2019 \n1. Андрейчикова Елена\n2. Бару Михаил\n3. Волкова Светлана\n4. Володарский Александр\n5. Габриадзе Реваз\n6. Грановский Александр\n7. Денисов Вячеслав\n8. Деменок Евгений\n9. Долгопят Елена\n10. Златковский Михаил\n11. Кумм Ксения\n12. Курилко Алексей\n13. Лидский Владимир\n14. Лозович Виталий\n15. Манович Лера\n16. Матковский Максим\n17. Палей Марина\n18. Полюга Михаил\n19. Селуков Павел\n20. Сучков Дмитрий\n21. Улья Нова\n22. Шамрай Владислав \nПоздравляем всех финалистов и верим в победу каждого!\nЛицам\, ставшим победителями Премии\, присваивается звание лауреата Одесской международной литературной премии имени Исаака Бабеля\, вручается соответствующий диплом и выплачивается денежное вознаграждение. Лауреату Премии (I место) кроме диплома и денежного вознаграждения вручается главный приз конкурса — миниатюрная статуэтка «Колесо судьбы» (скульпторы Г. Франгулян и М. Рева). Авторам\, ставшим дипломантами Премии\, вручается соответствующий диплом (без денежного вознаграждения). Как и в прежние годы во время Церемонии возможны некоторые сюрпризы.\nНадеемся\, приятные… \nДо встречи в Одесском литературном музее 11 июля в 17:00 \n\n\n\n\n\n\n\n\n\n\n\n\n\n\n\n\n	ВХОД СВОБОДНЫЙ
URL:https://museum-literature.odessa.ua/ru/events/premyya-babelya/
ATTACH;FMTTYPE=image/jpeg:https://museum-literature.odessa.ua/wp-content/uploads/2019/07/premiya-babelya-ru.jpg
END:VEVENT
END:VCALENDAR