BEGIN:VCALENDAR
VERSION:2.0
PRODID:-//Одеський літературний музей - ECPv5.4.0.2//NONSGML v1.0//EN
CALSCALE:GREGORIAN
METHOD:PUBLISH
X-WR-CALNAME:Одеський літературний музей
X-ORIGINAL-URL:https://museum-literature.odessa.ua/ru/
X-WR-CALDESC:События для Одеський літературний музей
BEGIN:VTIMEZONE
TZID:Europe/Kiev
BEGIN:DAYLIGHT
TZOFFSETFROM:+0200
TZOFFSETTO:+0300
TZNAME:EEST
DTSTART:20200329T010000
END:DAYLIGHT
BEGIN:STANDARD
TZOFFSETFROM:+0300
TZOFFSETTO:+0200
TZNAME:EET
DTSTART:20201025T010000
END:STANDARD
END:VTIMEZONE
BEGIN:VEVENT
DTSTART;TZID=Europe/Kiev:20200716T150000
DTEND;TZID=Europe/Kiev:20200716T170000
DTSTAMP:20260420T085121
CREATED:20200714T123353Z
LAST-MODIFIED:20200716T093947Z
UID:23647-1594911600-1594918800@museum-literature.odessa.ua
SUMMARY:Презентация книги "Зеленый фургон" и весь Александр Козачинский
DESCRIPTION:16 июля в 15:00 в  Золотом зале Одесского литературного музея состоится презентация книги   \n«»Зеленый фургон» и весь Александр Козачинский». \n  \nАлександр Козачинский родился 16 июля 1903 года\, детство и юность провел в Одессе. \nВ день рождения писателя будет представлено издание в двух томах\,  подготовленное по материалами архива А. Козачинского. \nТом первый: «А. Козачинский: повесть «Зеленый фургон»\, водевиль «Могучее средство»\,  рассказы». \nТом второй. «А. Козачинский: Жизнь и судьба. Одесса-Севериновка-Москва-Новосибирск». В книгу вошли  статьи М. Пойзнера\, А. Яворской (Одесский литературный музей)\, Н. Панасенко\, Кассио де Оливейры (США) Л. Мацько-Королевой\, О. Губаря. \nОпубликованы материалы из уголовного дела А. Козачинского – протоколы допросов самого Козачинского\, его матери\, Евгения Катаева (Е.Петрова). В разделе «Эпистолярное наследие» – письма А.Козачинского\, адресованные Е. Петрову\, Л. Славину\, С.Гехту\, А. Бруштейн; письма\, полученные Козачинским  от И.Ильфа\, Л. Славина\, А. Бруштейн\, А. Успенского\, Л. Хвата. \nВпервые опубликован киносценарий А. Козачинского «Первый выстрел» и отрывки из неоконченной книги «Гремучая ртуть». \nВпервые собраны под одной обложкой статьи А.Козачинского в периодике 1930-х гг. и рецензии 1938-1941 гг. на повесть «Зеленый фургон». \nВ разделе «А. Козачинский-фотограф» более пятидесяти фотографий\, сделанных А. Козачинским\, большинство  публикуется впервые. \nВ конце книги – рассказ о поисках могилы Козачинского в Новосибирске\, историческая справка о селе Севериновка и фотографии Севериновки сегодня.\nИдея и концепция издания – Михаила Пойзнера\, дизайн Леонида Брука\, иллюстрации Григория Палатникова. Редколлегия: Барковская О.М.\, Грабовский А.Л.\, Данилко Л.И.\, Колесниченко Н.Ю.\,Михайлов Г\,Н.\, Панасенко Н.Н.\, Пойзнер М.Б\, Этнарович О.В.\, Яворская А.Л. \nПосле презентации книги Михаил Пойзнер передаст в дар Одесскому литературному музею архив А. Козачинского. \n  \nБудут показаны также   прижизненные издания и письма А. Козачинского Е. Петрову из фондов Одесского литературного музея. \nНапоминаем — посетители музея обязуются неукоснительно соблюдать все санитарно-эпидемиологические правила: масочный режим\, социальную дистанцию\, дезинфекцию рук.
URL:https://museum-literature.odessa.ua/ru/events/prezentatsyya-knygy-zelenyj-furgon-y-ves-aleksandr-kozachynskyj/
LOCATION:Одесский литературный музей\, ул. Ланжероновская\, 2\, г. Одесса\, Украина
CATEGORIES:Музей
ATTACH;FMTTYPE=image/jpeg:https://museum-literature.odessa.ua/wp-content/uploads/2020/07/109233965_4005726822833283_3025916399682374313_n.jpg
END:VEVENT
END:VCALENDAR