BEGIN:VCALENDAR
VERSION:2.0
PRODID:-//Одеський літературний музей - ECPv5.4.0.2//NONSGML v1.0//EN
CALSCALE:GREGORIAN
METHOD:PUBLISH
X-WR-CALNAME:Одеський літературний музей
X-ORIGINAL-URL:https://museum-literature.odessa.ua/ru/
X-WR-CALDESC:События для Одеський літературний музей
BEGIN:VTIMEZONE
TZID:Europe/Kiev
BEGIN:DAYLIGHT
TZOFFSETFROM:+0200
TZOFFSETTO:+0300
TZNAME:EEST
DTSTART:20200329T010000
END:DAYLIGHT
BEGIN:STANDARD
TZOFFSETFROM:+0300
TZOFFSETTO:+0200
TZNAME:EET
DTSTART:20201025T010000
END:STANDARD
END:VTIMEZONE
BEGIN:VEVENT
DTSTART;TZID=Europe/Kiev:20200530T110000
DTEND;TZID=Europe/Kiev:20201201T170000
DTSTAMP:20260423T131543
CREATED:20200529T210919Z
LAST-MODIFIED:20200716T094149Z
UID:22764-1590836400-1606842000@museum-literature.odessa.ua
SUMMARY:"«Сокровища» с чердака"
DESCRIPTION:                                         Мемориальный музей К.Г. Паустовского \n                                          приглашает на выставку \n                                          «Сокровища» с чердака». \nВ старых домах есть много интересного и загадочного. Одни потрясают своим богатым декором и роскошью\, другие   — скромностью\, иногда граничащей с бедностью.  И в каждом из них есть чердачные помещения\, которые\, как правило\, служат убежищем для ненужных вещей. \nОтслужившие свое вещи сносили на чердак\, так как выбросить жалко\,  а когда-то что-то может понадобится. Со временем об этих вещах забывали\, и они могли пролежать там не одно десятилетие. \nНо наступает момент\, когда в это хранилище старых вещей попадают искатели «сокровищ». И находят… \nЧто можно найти на старых одесских чердаках? \nЛюбители старины ответят: «Все что угодно. И кое-что из этих находок можно увидеть на Староконном рынке». \nА мы дополним: «И в музее». \nВ Мемориальном музее К.Г. Паустовского\, который находится на улице Черноморской открыта выставка «Сокровища» с чердака». \nНа этой улице еще сохранились старые особняки\, в одном из которых жил Константин Паустовский.  Возможно\, и в этих домах\, на чердаках\, находятся интересные вещи\, которые могут рассказать о прежних жильцах? \nО разных находках\, правда\, на чердаке  деревенского дома\, пишет Паустовский в рассказе «Жильцы старого дома»: …«В доме жило много старых вещей. Когда-то давно эти вещи были нужны обитателям дома\, а сейчас они пылились и рассыхались на чердаке и в них копошились мыши. \nИзредка мы устраивали на чердаке раскопки и среди разбитых оконных рам\, и занавесей из мохнатой паутины\, находили то ящик от масляных красок\, покрытый разноцветными окаменелыми каплями\, то сломанный перламутровый веер\, то медную кофейную мельницу времен севастопольской обороны\, то огромную тяжелую книгу с гравюрами из древней истории\, то\, наконец\, пачку переводных картинок». \nВыставка «Сокровища» с чердака» приурочена ко дню рождения Константина Паустовского. \nНа выставке представлены предметы быта одесситов из коллекции Александра Фридмана и музейного собрания\, относящиеся к разным периодам жизни города. \nМузей работает с 10:00 до 17:00 (выходной — понедельник)\nул. Черноморская\, 6 Одесса\, Украина \n  \nНапоминаем — посетители музея обязуются неукоснительно соблюдать все санитарно-эпидемиологические правила: масочный режим\, социальную дистанцию\, дезинфекцию рук. \n 
URL:https://museum-literature.odessa.ua/ru/events/sokrovyshha-s-cherdaka/
LOCATION:Мемориальный музей им. К.Г. Паустовского\, ул. Черноморская\, 6\, г. Одесса\, Украина
ATTACH;FMTTYPE=image/jpeg:https://museum-literature.odessa.ua/wp-content/uploads/2020/05/skarby.jpg
END:VEVENT
END:VCALENDAR