BEGIN:VCALENDAR
VERSION:2.0
PRODID:-//Одеський літературний музей - ECPv5.4.0.2//NONSGML v1.0//EN
CALSCALE:GREGORIAN
METHOD:PUBLISH
X-WR-CALNAME:Одеський літературний музей
X-ORIGINAL-URL:https://museum-literature.odessa.ua/ru/
X-WR-CALDESC:События для Одеський літературний музей
BEGIN:VTIMEZONE
TZID:UTC
BEGIN:STANDARD
TZOFFSETFROM:+0000
TZOFFSETTO:+0000
TZNAME:UTC
DTSTART:20190101T000000
END:STANDARD
END:VTIMEZONE
BEGIN:VEVENT
DTSTART;VALUE=DATE:20190917
DTEND;VALUE=DATE:20190918
DTSTAMP:20260421T185840
CREATED:20190911T193920Z
LAST-MODIFIED:20190911T200953Z
UID:19152-1568678400-1568764799@museum-literature.odessa.ua
SUMMARY:ВЕЧЕР ПАМЯТИ АЛЕКСАНДРА РОЗЕНБОЙМА
DESCRIPTION:Презентация книги «Александр Юлиевич Розенбойм (Ростислав Александров)\, 1939-2015».\n\n17 сентября в 16:00 в Золотом зале Одесского литературного музея состоится презентация книги  \n  \n«Александр Юлиевич Розенбойм (Ростислав Александров)\, 1939-2015».   \nСоставитель Александра Дели. Издательство «Optimum». \n  \nСборник материалов продолжает биобиблиографическую серию ОННБ «Краеведы Одессы»\, основанную в 2013 году. \nА. Ю. Розенбойм — краевед\, журналист\, писатель\, коллекционер\, библиофил\, член Национального союза журналистов Украины — известен своими изысканиями\, прежде всего\, в литературном краеведении.  \nОсновную часть сборника составляет библиографический указатель\, куда включено краеведческое наследие Ростислава Александрова\, отзывы и рецензии на его работы\, а также литература о жизни и деятельности краеведа. В работе над библиографией использовались справочный аппарат\, фонды ОННБ и библиотеки Международного общинного центра «Мигдаль»\, а также личный архив и библиотека А. Ю. Розенбойма.  \nБиблиографию предваряет мемориальный раздел\, в котором друзья и близкие краеведа поделились своими воспоминаниями о нем. Опубликованы фотографии из семейного архива\, частных коллекций\, фондов ОННБ\, Одесского литературного музея и Всемирного клуба одесситов.  \nШирокому кругу читателей Александр Розенбойм больше известен как Ростислав Александров. Именно под таким псевдонимом изданы все его двадцать книг\, основной массив статей в журналах и газетах. К своей настоящей фамилии при указании авторства Александр Розенбойм вернулся в одесской еврейской периодике конца 1990-х — начала 2000-х гг.: в газетах «Гмилус Хесед»\, «Доброе дело» и «Шомрей Шабос».  \nАлександр Юлиевич был активным участником научных секций «Книги» и «Одессика» при Одесском Доме ученых. Обзор докладов и информацию об участии в заседаниях этих сообществ собрано в этом издании отдельном разделе.  \nВХОД СВОБОДНЫЙ
URL:https://museum-literature.odessa.ua/ru/events/vecher-pamyaty-aleksandra-rozenbojma/
CATEGORIES:Музей
ATTACH;FMTTYPE=image/jpeg:https://museum-literature.odessa.ua/wp-content/uploads/2019/09/vechir-pam-yati-oleksandra-rozenbojma.jpg
END:VEVENT
END:VCALENDAR