BEGIN:VCALENDAR
VERSION:2.0
PRODID:-//Одеський літературний музей - ECPv5.4.0.2//NONSGML v1.0//EN
CALSCALE:GREGORIAN
METHOD:PUBLISH
X-WR-CALNAME:Одеський літературний музей
X-ORIGINAL-URL:https://museum-literature.odessa.ua/ru/
X-WR-CALDESC:События для Одеський літературний музей
BEGIN:VTIMEZONE
TZID:Europe/Kiev
BEGIN:DAYLIGHT
TZOFFSETFROM:+0200
TZOFFSETTO:+0300
TZNAME:EEST
DTSTART:20200329T010000
END:DAYLIGHT
BEGIN:STANDARD
TZOFFSETFROM:+0300
TZOFFSETTO:+0200
TZNAME:EET
DTSTART:20201025T010000
END:STANDARD
END:VTIMEZONE
BEGIN:VEVENT
DTSTART;TZID=Europe/Kiev:20201008T170000
DTEND;TZID=Europe/Kiev:20201008T183000
DTSTAMP:20260421T114649
CREATED:20201007T113535Z
LAST-MODIFIED:20201007T121108Z
UID:24590-1602176400-1602181800@museum-literature.odessa.ua
SUMMARY:Вечер памяти Николая Яцынюка
DESCRIPTION:8 октября в 17:00 в Золотом зале Одесского литературного музея состоится вечер памяти одного из видных представителей музыкального искусства города и области Николая Павловича Яцынюка «Страницы жизни и творчества».\nНиколай Павлович проработал 31 год директором старейшей в городе Детской музыкальной школы №1\, член жюри городских\, областных\, всеукраинских и международных конкурсов исполнителей.\n\n• Николай Павлович занесен в Книгу Трудовой Славы Одесского горисполкома.\n• Награжден Почетными грамотами городского и областного Управлений культуры.\n• Почетной грамотой Министерства культуры и искусств Украины.\n• Почетным знаком мэра г. Одессы.\n• Почетным знаком Трудовая Слава.\n• Орденом Знак Почета Одесского городского головы.\n\nВся жизнь этого замечательного Человека\, талантливого Музыканта и мудрого Руководителя связана с искусством\, музыкальным образованием\, реорганизационной деятельностью\, работой по созданию одного из самых замечательных и творческих коллективов города\, снискавших заслуженную славу нашему городу.\n\nВход свободный
URL:https://museum-literature.odessa.ua/ru/events/vecher-pamyaty-nykolaya-yatsynyuka/
LOCATION:Одесский литературный музей\, ул. Ланжероновская\, 2\, г. Одесса\, Украина
ATTACH;FMTTYPE=image/jpeg:https://museum-literature.odessa.ua/wp-content/uploads/2020/10/WhatsApp-Image-2020-10-06-at-10.16.47.jpeg
END:VEVENT
END:VCALENDAR