BEGIN:VCALENDAR
VERSION:2.0
PRODID:-//Одеський літературний музей - ECPv5.4.0.2//NONSGML v1.0//EN
CALSCALE:GREGORIAN
METHOD:PUBLISH
X-WR-CALNAME:Одеський літературний музей
X-ORIGINAL-URL:https://museum-literature.odessa.ua/ru/
X-WR-CALDESC:События для Одеський літературний музей
BEGIN:VTIMEZONE
TZID:UTC
BEGIN:STANDARD
TZOFFSETFROM:+0000
TZOFFSETTO:+0000
TZNAME:UTC
DTSTART:20190101T000000
END:STANDARD
END:VTIMEZONE
BEGIN:VEVENT
DTSTART;VALUE=DATE:20190911
DTEND;VALUE=DATE:20190912
DTSTAMP:20260421T200445
CREATED:20190907T095919Z
LAST-MODIFIED:20190910T185435Z
UID:18812-1568160000-1568246399@museum-literature.odessa.ua
SUMMARY:«ВЕСЕЛЫЙ МУДРЕЦ»
DESCRIPTION:Литературно-музыкальный праздник к 250-летию со дня рождения Ивана Котляревского\n\n11.09\n13:00 \n«Мутив\, як на селі москаль!\nБо — хрін його не взяв — моторний\,\nЛаскавий\, гарний і проворний\,\nІ гострий\, як на бритві сталь».\nИ. Котляревский «Энеида» \n11 сентября в 13:00 в Золотом зале Одесского литературного музея открывается выставка «Веселый мудрец»\, посвященная 250-летию со дня рождения отца новой украинской литературы Ивана Котляревского. \nНа выставке представлены многочисленные редкие издания «Энеиды» Котляревского\, «Наталка Полтавка»\, пьесу которую исполняли в Одессе и Михаил Щепкин\, и корифеи украинского театра. В восторге были одесситы от Наталки в исполнении Марии Заньковецкой. \nВызывают интерес разведки XIX века о жизни и деятельности Котляревского — библиографические исследования его творчества\, которые были начаты в Одессе. Бросаются в глаза яркие иллюстрации к произведениям поэта и драматурга. \nУкрашением выставки является издание «Энеиды» 1809 г.\, в осуществлении которого принимал участие непосредственно Иван Петрович Котляревский. Первые два издания его поэмы — 1798 и 1808 гг. вышли в Петербурге без его согласия и участия\, и содержали три части. Во время пребывания на Русско-Турецкой войне под Одессой Котляревский написал четвертую часть «Энеиды» — военную\, в которой описал боевую победу и храбрость украинского казачества. Эта военная часть перевернула первоначальный замысел поэмы\, превратив ее из бурлескно-травестийной в героико-романтическую. После победы капитан Котляревский уходит в отставку и уезжает в Петербург\, где издает авторскую версию «Энеиды» в четырех частях. \nПрисутствует на выставке и полное издание произведений Котляревского 1842 года\, вышедшее\, к сожалению после смерти автора.\nКотляревский написал немного: знаменитую поэму «Энеида»\, две пьесы (одна из них — «Наталка Полтавка» принесла ему славу основателя украинской драматургии)\, несколько стихов и десятка два страниц «Журнала военных действий» на Русско-Турецкой войне\, благодаря победе в которой Одесса стала стремительно развиваться. \nИменно этот небольшой перечень произведений Котляревского дает осмыслить тот факт\, не численность произведения\, не многословие важные на творческом Олимпе\, туда прокладывают дорогу острое слово\, меткое выражение\, искренняя улыбка. \nПразднование юбилея отца новой украинской литературы украсит концерт \nКОГДА 11.09 в 13:00\nВХОД СВОБОДНЫЙ
URL:https://museum-literature.odessa.ua/ru/events/veselyj-mudrets/
CATEGORIES:Музей
ATTACH;FMTTYPE=image/jpeg:https://museum-literature.odessa.ua/wp-content/uploads/2019/09/veselyj-mudrets.jpg
END:VEVENT
END:VCALENDAR