BEGIN:VCALENDAR
VERSION:2.0
PRODID:-//Одеський літературний музей - ECPv5.4.0.2//NONSGML v1.0//EN
CALSCALE:GREGORIAN
METHOD:PUBLISH
X-WR-CALNAME:Одеський літературний музей
X-ORIGINAL-URL:https://museum-literature.odessa.ua/ru/
X-WR-CALDESC:События для Одеський літературний музей
BEGIN:VTIMEZONE
TZID:UTC
BEGIN:STANDARD
TZOFFSETFROM:+0000
TZOFFSETTO:+0000
TZNAME:UTC
DTSTART:20190101T000000
END:STANDARD
END:VTIMEZONE
BEGIN:VEVENT
DTSTART;TZID=UTC:20190604T100000
DTEND;TZID=UTC:20190616T170000
DTSTAMP:20260421T215000
CREATED:20190604T181430Z
LAST-MODIFIED:20190604T183039Z
UID:17364-1559642400-1560704400@museum-literature.odessa.ua
SUMMARY:Юбилейная выставка художника Виктора Цапка
DESCRIPTION:В выставочных залах Одесского литературного музея\, открыта выставка живописи\, украинского художника – ВИКТОРА ЦАПКА.\n\nПриглашаются поклонники украинского современного искусства\, одесситы и гости Одессы. \nВиктор Цапко родился на Херсонщине в 1956 году в селе Верхние-Сирогозы. Детские и юношеские годы прошли на Хмельниччине в селе Волица-Полевая. Начальную профессиональную подготовку получил в Херсоне (10-месячные курсы художника- оформителя). Работал в студии в Доме культуры и художником на художественном комбинате. \nВ 1979 году поступил в Одесское государственного художественного училища им. Грекова\, которое окончил с отличием (педагог по специальности Криштопенко В. В.). Получил направление на художественно-оформительский комбинат (1983-1986). С 1986 года жил в Санкт-Петербурге\, где продолжил штудировании в народной студии Василия Суворова. Начал участвовать в выставках. С 1991 года — в составе братства «Кобзар». \nПервая выставка за рубежом состоялась в 1996 году в галерее КУМФ (Торонто). С 1998 по 2006 жил в Канаде (Торонто)\, где состоялось 5 персональных выставок и много коллективных. \nСейчас живет и работает в Полтаве\, в селе большой Перевоз. \n\n\n\n\n\n\n\n\n\n\n\n\n\n\n\n\n	ВЫСТАВКА ДЕЙСТВУЕТ ДО 16 ИЮНЯ.\n\n	Билеты в кассе музея.
URL:https://museum-literature.odessa.ua/ru/events/yuvilejna-vystavka-hudozhnyka-viktora-czapka/
ATTACH;FMTTYPE=image/jpeg:https://museum-literature.odessa.ua/wp-content/uploads/2019/06/csapko-2.jpg
END:VEVENT
END:VCALENDAR